BEGIN:VCALENDAR
VERSION:2.0
PRODID:-//www.thierachern.ch//NONSGML kigkonsult.se ICALCREATOR_VERSION//
CALSCALE:GREGORIAN
METHOD:PUBLISH
X-WR-TIMEZONE','EUROPE/BERLIN:
BEGIN:VEVENT
UID:20260421T134029CEST-31525cU1Rh@www.thierachern.ch
DTSTAMP:20260421T114029Z
DESCRIPTION:Klicken Sie auf den folgenden Link\, um weitere Informationen z
 ur Veranstaltung zu erhalten:\nhttp://www.thierachern.ch/de/veranstaltunge
 n/detail/detail.php?i=123
DTSTART:20260523T080000
DTEND:20260523T180000
LOCATION:Pumptrack und Sportplatz
SUMMARY:Skateboardrennen
END:VEVENT
END:VCALENDAR
