BEGIN:VCALENDAR
VERSION:2.0
PRODID:-//www.thierachern.ch//NONSGML kigkonsult.se ICALCREATOR_VERSION//
CALSCALE:GREGORIAN
METHOD:PUBLISH
X-WR-TIMEZONE','EUROPE/BERLIN:
BEGIN:VEVENT
UID:20260421T131237CEST-1052ZUH98p@www.thierachern.ch
DTSTAMP:20260421T111237Z
DESCRIPTION:Klicken Sie auf den folgenden Link\, um weitere Informationen z
 ur Veranstaltung zu erhalten:\nhttp://www.thierachern.ch/de/veranstaltunge
 n/detail/detail.php?i=144
DTSTART:20260424T190000
DTEND:20260424T210000
LOCATION:Mehrzweckhalle Schulanlage Kandermatte
SUMMARY:treffpunkt.thierachern
END:VEVENT
END:VCALENDAR
