BEGIN:VCALENDAR
VERSION:2.0
PRODID:-//www.thierachern.ch//NONSGML kigkonsult.se ICALCREATOR_VERSION//
CALSCALE:GREGORIAN
METHOD:PUBLISH
X-WR-TIMEZONE','EUROPE/BERLIN:
BEGIN:VEVENT
UID:20260421T133724CEST-6042rFrKH0@www.thierachern.ch
DTSTAMP:20260421T113724Z
DESCRIPTION:Klicken Sie auf den folgenden Link\, um weitere Informationen z
 ur Veranstaltung zu erhalten:\nhttp://www.thierachern.ch/de/veranstaltunge
 n/detail/detail.php?i=145
DTSTART:20260510T100000
DTEND:20260510T120000
LOCATION:Kirche Thierachern
SUMMARY:Konfirmation
END:VEVENT
END:VCALENDAR
