BEGIN:VCALENDAR
VERSION:2.0
PRODID:-//www.thierachern.ch//NONSGML kigkonsult.se ICALCREATOR_VERSION//
CALSCALE:GREGORIAN
METHOD:PUBLISH
X-WR-TIMEZONE','EUROPE/BERLIN:
BEGIN:VEVENT
UID:20260421T133827CEST-3926VM9hvb@www.thierachern.ch
DTSTAMP:20260421T113827Z
DESCRIPTION:Klicken Sie auf den folgenden Link\, um weitere Informationen z
 ur Veranstaltung zu erhalten:\nhttp://www.thierachern.ch/de/veranstaltunge
 n/detail/detail.php?i=148
DTSTART:20260603T173000
DTEND:20260603T193000
LOCATION:Schützenhaus
SUMMARY:Obligatorische Schiessübung
END:VEVENT
END:VCALENDAR
