BEGIN:VCALENDAR
VERSION:2.0
PRODID:-//www.thierachern.ch//NONSGML kigkonsult.se ICALCREATOR_VERSION//
CALSCALE:GREGORIAN
METHOD:PUBLISH
X-WR-TIMEZONE','EUROPE/BERLIN:
BEGIN:VEVENT
UID:20260421T133725CEST-3585TIEv9X@www.thierachern.ch
DTSTAMP:20260421T113725Z
DESCRIPTION:Klicken Sie auf den folgenden Link\, um weitere Informationen z
 ur Veranstaltung zu erhalten:\nhttp://www.thierachern.ch/de/veranstaltunge
 n/detail/detail.php?i=152
DTSTART:20260809T170000
DTEND:20260809T183000
LOCATION:Kirche Thierachern
SUMMARY:Gottesdienst zum Schulanfang
END:VEVENT
END:VCALENDAR
