BEGIN:VCALENDAR
VERSION:2.0
PRODID:-//www.thierachern.ch//NONSGML kigkonsult.se ICALCREATOR_VERSION//
CALSCALE:GREGORIAN
METHOD:PUBLISH
X-WR-TIMEZONE','EUROPE/BERLIN:
BEGIN:VEVENT
UID:20260421T133810CEST-6961uM40uT@www.thierachern.ch
DTSTAMP:20260421T113810Z
DESCRIPTION:Klicken Sie auf den folgenden Link\, um weitere Informationen z
 ur Veranstaltung zu erhalten:\nhttp://www.thierachern.ch/de/veranstaltunge
 n/detail/detail.php?i=154
DTSTART:20260821T000000
LOCATION:Schulanlage Kandermatte
SUMMARY:44. Quer durch Thierachern
END:VEVENT
END:VCALENDAR
