BEGIN:VCALENDAR
VERSION:2.0
PRODID:-//www.thierachern.ch//NONSGML kigkonsult.se ICALCREATOR_VERSION//
CALSCALE:GREGORIAN
METHOD:PUBLISH
X-WR-TIMEZONE','EUROPE/BERLIN:
BEGIN:VEVENT
UID:20260421T133843CEST-2014TDu3kG@www.thierachern.ch
DTSTAMP:20260421T113843Z
DESCRIPTION:Klicken Sie auf den folgenden Link\, um weitere Informationen z
 ur Veranstaltung zu erhalten:\nhttp://www.thierachern.ch/de/veranstaltunge
 n/detail/detail.php?i=157
DTSTART:20260904T180000
DTEND:20260904T230000
LOCATION:Feuerwehrmagazin
SUMMARY:Abend der offenen Tore
END:VEVENT
END:VCALENDAR
