BEGIN:VCALENDAR
VERSION:2.0
PRODID:-//www.thierachern.ch//NONSGML kigkonsult.se ICALCREATOR_VERSION//
CALSCALE:GREGORIAN
METHOD:PUBLISH
X-WR-TIMEZONE','EUROPE/BERLIN:
BEGIN:VEVENT
UID:20260421T134011CEST-8040RA4C2P@www.thierachern.ch
DTSTAMP:20260421T114011Z
DESCRIPTION:Klicken Sie auf den folgenden Link\, um weitere Informationen z
 ur Veranstaltung zu erhalten:\nhttp://www.thierachern.ch/de/veranstaltunge
 n/detail/detail.php?i=164
DTSTART:20261122T093000
DTEND:20261122T120000
LOCATION:Kirche Thierachern
SUMMARY:Ewigkeitssonntag mit Auftritt Jodlerklub Thierachern
END:VEVENT
END:VCALENDAR
