BEGIN:VCALENDAR
VERSION:2.0
PRODID:-//www.thierachern.ch//NONSGML kigkonsult.se ICALCREATOR_VERSION//
CALSCALE:GREGORIAN
METHOD:PUBLISH
X-WR-TIMEZONE','EUROPE/BERLIN:
BEGIN:VEVENT
UID:20260421T134018CEST-1218JVxgoe@www.thierachern.ch
DTSTAMP:20260421T114018Z
DESCRIPTION:Klicken Sie auf den folgenden Link\, um weitere Informationen z
 ur Veranstaltung zu erhalten:\nhttp://www.thierachern.ch/de/veranstaltunge
 n/detail/detail.php?i=165
DTSTART:20261128T140000
DTEND:20261128T000000
LOCATION:Rest. Bären
SUMMARY:Lotto Trachtenchörli Thierachern
END:VEVENT
END:VCALENDAR
