BEGIN:VCALENDAR
VERSION:2.0
PRODID:-//www.thierachern.ch//NONSGML kigkonsult.se ICALCREATOR_VERSION//
CALSCALE:GREGORIAN
METHOD:PUBLISH
X-WR-TIMEZONE','EUROPE/BERLIN:
BEGIN:VEVENT
UID:20260421T134029CEST-4566DMzsaJ@www.thierachern.ch
DTSTAMP:20260421T114029Z
DESCRIPTION:Klicken Sie auf den folgenden Link\, um weitere Informationen z
 ur Veranstaltung zu erhalten:\nhttp://www.thierachern.ch/de/veranstaltunge
 n/detail/detail.php?i=169
DTSTART:20261129T100000
DTEND:20261129T120000
LOCATION:Schulanlage Kandermatte
SUMMARY:Matineekonzert mit Jubilarenfeier
END:VEVENT
END:VCALENDAR
