BEGIN:VCALENDAR
VERSION:2.0
PRODID:-//www.thierachern.ch//NONSGML kigkonsult.se ICALCREATOR_VERSION//
CALSCALE:GREGORIAN
METHOD:PUBLISH
X-WR-TIMEZONE','EUROPE/BERLIN:
BEGIN:VEVENT
UID:20260421T133810CEST-1941iHCFw5@www.thierachern.ch
DTSTAMP:20260421T113810Z
DESCRIPTION:Klicken Sie auf den folgenden Link\, um weitere Informationen z
 ur Veranstaltung zu erhalten:\nhttp://www.thierachern.ch/de/veranstaltunge
 n/detail/detail.php?i=183
DTSTART:20260517T100000
DTEND:20260517T113000
LOCATION:Mühle-Schüür
SUMMARY:HMK - Gottesdienst
END:VEVENT
END:VCALENDAR
