BEGIN:VCALENDAR
VERSION:2.0
PRODID:-//www.thierachern.ch//NONSGML kigkonsult.se ICALCREATOR_VERSION//
CALSCALE:GREGORIAN
METHOD:PUBLISH
X-WR-TIMEZONE','EUROPE/BERLIN:
BEGIN:VEVENT
UID:20260421T122519CEST-8964UhFAOJ@www.thierachern.ch
DTSTAMP:20260421T102519Z
DESCRIPTION:Klicken Sie auf den folgenden Link\, um weitere Informationen z
 ur Veranstaltung zu erhalten:\nhttp://www.thierachern.ch/de/veranstaltunge
 n/detail/detail.php?i=190
DTSTART:20260424T000000
LOCATION:Café am Bächli
SUMMARY:Seniorenmittagessen
END:VEVENT
END:VCALENDAR
