BEGIN:VCALENDAR
VERSION:2.0
PRODID:-//www.thierachern.ch//NONSGML kigkonsult.se ICALCREATOR_VERSION//
CALSCALE:GREGORIAN
METHOD:PUBLISH
X-WR-TIMEZONE','EUROPE/BERLIN:
BEGIN:VEVENT
UID:20260421T133945CEST-4112P58Wvv@www.thierachern.ch
DTSTAMP:20260421T113945Z
DESCRIPTION:Klicken Sie auf den folgenden Link\, um weitere Informationen z
 ur Veranstaltung zu erhalten:\nhttp://www.thierachern.ch/de/veranstaltunge
 n/detail/detail.php?i=197
DTSTART:20260508T140000
DTEND:20260508T170000
LOCATION:Pfruendschüür
SUMMARY:Seniorenkreis
END:VEVENT
END:VCALENDAR
