BEGIN:VCALENDAR
VERSION:2.0
PRODID:-//www.thierachern.ch//NONSGML kigkonsult.se ICALCREATOR_VERSION//
CALSCALE:GREGORIAN
METHOD:PUBLISH
X-WR-TIMEZONE','EUROPE/BERLIN:
BEGIN:VEVENT
UID:20260421T133809CEST-77133Kxnea@www.thierachern.ch
DTSTAMP:20260421T113809Z
DESCRIPTION:Klicken Sie auf den folgenden Link\, um weitere Informationen z
 ur Veranstaltung zu erhalten:\nhttp://www.thierachern.ch/de/veranstaltunge
 n/detail/detail.php?i=199
DTSTART:20260428T000000
LOCATION:Gemäss Wanderprogramm
SUMMARY:Wanderung
END:VEVENT
END:VCALENDAR
