BEGIN:VCALENDAR
VERSION:2.0
PRODID:-//www.thierachern.ch//NONSGML kigkonsult.se ICALCREATOR_VERSION//
CALSCALE:GREGORIAN
METHOD:PUBLISH
X-WR-TIMEZONE','EUROPE/BERLIN:
BEGIN:VEVENT
UID:20260421T133538CEST-1618t1TnId@www.thierachern.ch
DTSTAMP:20260421T113538Z
DESCRIPTION:Klicken Sie auf den folgenden Link\, um weitere Informationen z
 ur Veranstaltung zu erhalten:\nhttp://www.thierachern.ch/de/veranstaltunge
 n/detail/detail.php?i=206
DTSTART:20260812T090000
DTEND:20260812T170000
LOCATION:Parkplatz Kirche Thierachern
SUMMARY:E-MTB Tour
END:VEVENT
END:VCALENDAR
