BEGIN:VCALENDAR
VERSION:2.0
PRODID:-//www.thierachern.ch//NONSGML kigkonsult.se ICALCREATOR_VERSION//
CALSCALE:GREGORIAN
METHOD:PUBLISH
X-WR-TIMEZONE','EUROPE/BERLIN:
BEGIN:VEVENT
UID:20260421T133529CEST-6510B9oowD@www.thierachern.ch
DTSTAMP:20260421T113529Z
DESCRIPTION:Klicken Sie auf den folgenden Link\, um weitere Informationen z
 ur Veranstaltung zu erhalten:\nhttp://www.thierachern.ch/de/veranstaltunge
 n/detail/detail.php?i=208
DTSTART:20260909T090000
DTEND:20260909T133000
LOCATION:Parkplatz Kirche Thierachern
SUMMARY:Bio-Bike und E-MTB Tour
END:VEVENT
END:VCALENDAR
